BEGIN:VCALENDAR
VERSION:2.0
PRODID:nkc_event TYPO3 Extension
METHOD:PUBLISH
BEGIN:VEVENT
UID:d5285ca9879fa1af7edc9e76d525fed9
LOCATION:Haus der Begegnung (Umkleideraum2 im Untergeschoss)
SUMMARY:Satt&selig
DESCRIPTION:Die Abendbrotandacht in der Nachbarschaft. Einfach kommen\, hören und essen in Gemeinschaft.Einmal im Monat treffen wir uns in gemütlicher Atmosphäre\, hören einen Text oder eine Geschichte\, reden über Fragen des Lebens und essen gemeinsam Abendbrot. 
CLASS:PUBLIC
DTSTART:20260521T153000Z
DTEND:20260521T170000Z
DTSTAMP:20260425T113926Z
END:VEVENT

END:VCALENDAR