BEGIN:VCALENDAR
VERSION:2.0
PRODID:nkc_event TYPO3 Extension
METHOD:PUBLISH
BEGIN:VEVENT
UID:6703f07b15620394834fef90d446d345
LOCATION:Gemeindehaus II
SUMMARY:ABENTEUERLAND
DESCRIPTION:
CLASS:PUBLIC
DTSTART:20260925T133000Z
DTEND:20260925T143000Z
DTSTAMP:20260425T112043Z
END:VEVENT

END:VCALENDAR