BEGIN:VCALENDAR
VERSION:2.0
PRODID:nkc_event TYPO3 Extension
METHOD:PUBLISH
BEGIN:VEVENT
UID:4af57167fcff691cfdce50251dc5c5e6
LOCATION:Christian Jensen Kolleg
SUMMARY:Auf Abrahams Spuren – Schöpfung interreligös
DESCRIPTION:Die Klimakrise und die großen Transformationen unserer Zeit fordern auch die Religionen theologisch heraus. Welche Impulse geben Schöpfungstheologien aus Judentum\, Christentum und Islam? Die Tagung lädt zu Vorträgen und interreligiösen Begegnungen ein. Wir kommen miteinander ins Gespräch.   In Kooperation mit dem Christian Jensen Kolleg und dem Ökumenewerk der Nordkirche Veranstaltungsart":"Tagung Teilnahmebeitrag":"290 Euro im EZ\, Studierende\, Auszubildende etc. im DZ 50 Euro Studienleitung":"Maike Lauther-PohlAnke Fasse Link zur Veranstaltung":"https":"//akademie-nordkirche.de/veranstaltungen/aktuelles/1572
CLASS:PUBLIC
DTSTART:20260618T120000Z
DTEND:20260620T111500Z
DTSTAMP:20260421T005444Z
END:VEVENT

END:VCALENDAR