BEGIN:VCALENDAR
VERSION:2.0
PRODID:nkc_event TYPO3 Extension
METHOD:PUBLISH
BEGIN:VEVENT
UID:33110dcdd8c0fe653a255f7306fed0de
LOCATION:St. Marien
SUMMARY:Chormusik am Vormittag
DESCRIPTION:Der deutsch-kanadische Männerchor aus Calgary\, der nun bereits in seine 55. Saison geht\, freut sich sehr auf seine Tournee nach Schleswig-Holstein. Der Chor wurde von deutschen Einwanderern in Kanada gegründet\, und auch heute noch zieht der Klang eines Männerchores neue Mitglieder mit unterschiedlichstem kulturellen Hintergrund an. Der Chor hatte bereits mehrfach Gelegenheit\, nach Deutschland zu fliegen\, doch diese Tournee ist seine erste Reise in den äußersten Norden des Landes. Die Chormitglieder freuen sich darauf\, neue Freunde aus der deutsche Chorszene zu gewinnen\, da gemeinsame Konzerte mit Chören aus Groß Solt\, Kappeln\, Niebüll und Tondern jenseits der Grenze geplant sind. Weitere Konzerte finden in Eckernförde\, Friedrichstadt\, Lübeck und Schleswig statt.Der Chor wird von seiner langjährigen Dirigentin Susan Woodward geleitet und am Klavier von Gavin Caldwell begleitet. 
CLASS:PUBLIC
DTSTART:20260527T090000Z
DTEND:20260527T100000Z
DTSTAMP:20260423T081009Z
END:VEVENT

END:VCALENDAR