BEGIN:VCALENDAR
VERSION:2.0
PRODID:nkc_event TYPO3 Extension
METHOD:PUBLISH
BEGIN:VEVENT
UID:7881570f0be0f562473d45f608157540
LOCATION:Freiwillige Feuerwehr Kaköhl-Blekendorf
SUMMARY:Motorradgottesdienst\, Pastorin Haustein
DESCRIPTION:Motorradgottesdienst mit der FFW Kaköhl- Blekendorf\, Andacht im Feuerwehrhaus am Radeberg\, anschließend Ausfahrt\, Kaffee\, Kuchen\, Gegrilltes 
CLASS:PUBLIC
DTSTART:20260501T100000Z
DTEND:20260501T110000Z
DTSTAMP:20260422T123425Z
END:VEVENT

END:VCALENDAR