BEGIN:VCALENDAR
VERSION:2.0
PRODID:nkc_event TYPO3 Extension
METHOD:PUBLISH
BEGIN:VEVENT
UID:fcdf3d33c8b3f458215d92493195514d
LOCATION:Heilandskirche (Friedensgemeinde Kiel)
SUMMARY:Familiengottesdienst DQUOTEWer ist denn dieser Jesus?DQUOTE
DESCRIPTION:Familiengottesdienst in der Heilandskirche um 10 UhrFamiliengottesdienst am 26. April „Wer ist denn dieser Jesus?“Herzliche Einladung zu unseren Familiengottesdienst. Gemeinsam glauben\, singen\, beten und feiern – unsere Familiengottesdienste sind ein Ort für Groß und Klein. Alle Generationen sind herzlich willkommen. Die Gottesdienste sind kindgerecht gestaltet\, mit Liedern zum Mitsingen\, anschaulichen Geschichten und liturgischen sowie musikalischen Elementen\, die von Kindern gestaltet werden.Im Anschluss gibt es die Möglichkeit zum Austausch bei Getränken und Gebäck.Komm vorbei und sei dabei – wir freuen uns auf dich und euch!Pastorin Maria Paschen und Team
CLASS:PUBLIC
DTSTART:20260426T080000Z
DTEND:20260426T090000Z
DTSTAMP:20260422T140701Z
END:VEVENT

END:VCALENDAR