BEGIN:VCALENDAR
VERSION:2.0
PRODID:nkc_event TYPO3 Extension
METHOD:PUBLISH
BEGIN:VEVENT
UID:37072980da60361a05496a6ef4addfb1
LOCATION:Paul-Gerhardt-Kirche
SUMMARY:Musikalische Lesung DQUOTEVaterland? Ein Schiff kommt nach HauseDQUOTE
DESCRIPTION:Frühjahr 1933. Nach drei Monaten auf See\, kehrt die Mannschaft des Fischkutters „Kulm“ in ein auf schreckliche Weise verändertes Hamburg zurück. Mit eigens komponierten Liedern und schauspielerischer Sicherheit erwecken die Akteure die Matrosen und ihr tragikomisches Schicksal zum Leben. „Das Vaterland“ ist ein Roman des jüdischen Autors Heinz Liepman\, den die Künstler anlässlich des Festivals „Hamburg liest verbrannte Bücher“ neu entdeckten. Das Buch war lediglich antiquarisch erhältlich. Durch die Lesung konnte es neu aufgelegt werden und ist nun wieder für ein breites Publikum zugänglich.- 08.05.2026 - 20 Uhr - Gemeindesaal der Paul-Gerhardt-Gemeinde\, Ivensring 9\, 24149 Kiel - Eintritt frei!  
CLASS:PUBLIC
DTSTART:20260508T180000Z
DTEND:20260508T190000Z
DTSTAMP:20260424T122525Z
END:VEVENT

END:VCALENDAR