BEGIN:VCALENDAR
VERSION:2.0
PRODID:nkc_event TYPO3 Extension
METHOD:PUBLISH
BEGIN:VEVENT
UID:e2cb86653d7eabec825d52c185dccc5b
LOCATION:Gemeindehaus am Rockenhof
SUMMARY:Jugendaktion in der wunderBar
DESCRIPTION:Zusammen mit euch Jugendlichen (ab 15 Jahren) möchte ich verschiedene Aktionen veranstalten. Das Angebot soll ganz breit gefächert sein\, sodass für alle etwas dabei ist. Lasst uns gemeinsam kreativ werden\, über Gott und die Welt sprechen\, Neues lernen und vor allem Spaß miteinander haben.Eine Anmeldung schickt bitte bis spätestens 5 Tage vor der jeweiligen Aktion an jugend@kirche-in-volksdorf.de.
CLASS:PUBLIC
DTSTART:20260428T170000Z
DTEND:20260428T180000Z
DTSTAMP:20260419T150532Z
END:VEVENT

END:VCALENDAR