BEGIN:VCALENDAR
VERSION:2.0
PRODID:nkc_event TYPO3 Extension
METHOD:PUBLISH
BEGIN:VEVENT
UID:bfd3f59bddb4bdafb59278313610e35d
LOCATION:Pastorat Aegidienstr. 75
SUMMARY:Gemeinsam Bibel lesen und verstehen
DESCRIPTION:Philippus zum Kämmerer aus Äthiopien":" DQUOTEVerstehst du auch\, was du da liest?DQUOTEEr aber sprach":" DQUOTEWie kann ich\, wenn mich nicht jemand anleitet?DQUOTE (Apostelgeschichte 8\, 30 f)3. Kurs":" DQUOTETexte des JohannesevangeliumsDQUOTE5 Abende 
CLASS:PUBLIC
DTSTART:20260318T170000Z
DTEND:20260318T180000Z
DTSTAMP:20260420T091540Z
END:VEVENT

END:VCALENDAR