BEGIN:VCALENDAR
VERSION:2.0
PRODID:nkc_event TYPO3 Extension
METHOD:PUBLISH
BEGIN:VEVENT
UID:9b90904997b67845836637dd9caba637
LOCATION:https://www.youtube.com/channel/UCBo-WkPXb_39N1EjFLh9n1A
SUMMARY:Gottesdienst\, in der Kirche und auf YouTube
DESCRIPTION:Alle sind herzlich eingeladen\, mit uns Gottesdienst  zu feiern
CLASS:PUBLIC
DTSTART:20260510T080000Z
DTEND:20260510T090000Z
DTSTAMP:20260425T210323Z
END:VEVENT

END:VCALENDAR