BEGIN:VCALENDAR
VERSION:2.0
PRODID:nkc_event TYPO3 Extension
METHOD:PUBLISH
BEGIN:VEVENT
UID:c0ed86b69e62e1ac91ec911c4711c854
LOCATION:Ev. Kindergarten Arche Noah
SUMMARY:Nieharde-Gottesdienst am Himmelfahrtstag
DESCRIPTION:Kleine und Große sind eingeladen zum Gottesdienst unter freiem Himmel. Die Kita kann besichtigt werden. Anschließend gibt's Grillwurst\, Waffeln und Getrtänke. 
CLASS:PUBLIC
DTSTART:20260514T090000Z
DTEND:20260514T100000Z
DTSTAMP:20260424T104155Z
END:VEVENT

END:VCALENDAR