BEGIN:VCALENDAR
VERSION:2.0
PRODID:nkc_event TYPO3 Extension
METHOD:PUBLISH
BEGIN:VEVENT
UID:9167de194ab786ad91c467ffc1da13ff
LOCATION:Hauptkirche St. Jacobi
SUMMARY:Himmlische Musik zum Kaffee mit Liebe für den guten Zweck
DESCRIPTION:Gerhard Löffler - Arp-Schnitger-OrgelJehan Titelouze\, 1562–1633Magnificat VI. ToniMax Reger\, 1873–1916Ave Maria op. 63\, Nr. 7Johann Sebastian Bach\, 1685–1750Fuga sopra il Magnificat BWV 733
CLASS:PUBLIC
DTSTART:20260801T100000Z
DTEND:20260801T110000Z
DTSTAMP:20260420T144222Z
END:VEVENT

END:VCALENDAR