BEGIN:VCALENDAR
VERSION:2.0
PRODID:nkc_event TYPO3 Extension
METHOD:PUBLISH
BEGIN:VEVENT
UID:a25da8db74e96ed11edc284142f0a06f
LOCATION:St. Jakobi
SUMMARY:»Ich will euch trösten« IV. Johannes Brahms":" »Ein Deutsches Requiem«
DESCRIPTION:Johannes Brahms (1833–1897)Ein Deutsches Requiem op. 45(Fassung für 2 Klaviere\, Soli und Chor) 
CLASS:PUBLIC
DTSTART:20261122T160000Z
DTEND:20261122T170000Z
DTSTAMP:20260419T151736Z
END:VEVENT

END:VCALENDAR