BEGIN:VCALENDAR
VERSION:2.0
PRODID:nkc_event TYPO3 Extension
METHOD:PUBLISH
BEGIN:VEVENT
UID:d7d8fa0bc074afba68857b84a8e3e80d
LOCATION:Kirchlicher Dienst in der Arbeitswelt -  Büro Hamburg
SUMMARY:Die Erfindung der Hausfrau
DESCRIPTION:Lesung und GesprächDie Veranstaltung „Die Erfindung der Hausfrau“ (Titel des gleichnamigen Buches von Evke Rulffes) bildet den Auftakt der Care-Wochen. In der Lesung mit nachfolgendem Gespräch stellt die Kulturwissenschaftlerin heraus\, dass die Rolle der Hausfrau und Mutter nicht naturgegeben ist\, sondern menschengemacht – über gekippte Machtverhältnisse\, unfaire Arbeitsteilung und die Folgen.
CLASS:PUBLIC
DTSTART:20260519T173000Z
DTEND:20260519T183000Z
DTSTAMP:20260425T144132Z
END:VEVENT

END:VCALENDAR