BEGIN:VCALENDAR
VERSION:2.0
PRODID:nkc_event TYPO3 Extension
METHOD:PUBLISH
BEGIN:VEVENT
UID:db068a3c0b5ce6ecc32c47f6cf322d4c
LOCATION:Philippuskirche
SUMMARY:Sonntag Kantate
DESCRIPTION:Wir laden Sie sehr herzlich zu einem musikalischen Gottesdienst mit dem JazzPopChor und der jungen Kantorei ein. Der Gesang\, ob Chor oder Gemeinde plus Chor\, steht an diesem Sonntagmorgen im Mittelpunkt. Lasst uns singen! Kommen Sie auch sehr gerne am 25.4.\, Samstag\, zum offenen Singen.  An diesem Nachmittag werden wir uns schon einige Lieder als Vorbereitung für den Kantatensonntag anschauen.  Katharina Riemer hält die Liturgie. 
CLASS:PUBLIC
DTSTART:20260503T090000Z
DTEND:20260503T100000Z
DTSTAMP:20260424T122438Z
END:VEVENT

END:VCALENDAR