BEGIN:VCALENDAR
VERSION:2.0
PRODID:nkc_event TYPO3 Extension
METHOD:PUBLISH
BEGIN:VEVENT
UID:c4470103851f80430275ff563277d30e
LOCATION:St. Simeon Alt-Osdorf
SUMMARY:Lebensspuren erinnern und gestalten
DESCRIPTION:donnerstags\, 23.04. | 28.05. | 09.07. | 06.08.| 10.09.2026jeweils 18":"30-20":"30 UhrEine Teilnahme ist nur für die gesamte Reihe möglich\, da die Themen aufeinander aufbauen.Entdecken Sie Ihre Stärken\, gestalten Sie wertvolle Erinnerungen und tauschen Sie sich in einer wertschätzenden Gruppe aus. Kreativität trifft persönliche Entwicklung – für alle\, die sich mit Herz und Hand ihrem Lebensweg widmen möchten.Scrapbook bedeutet DQUOTEBuch mit Ausschnitten und SchnipselnDQUOTE. Wer kennt sie nicht\, die kleinen Erinnerungen. Sie kleben am Kühlschrank\, liegen in der kleinen Sammelbox oder fallen manchmal völlig überraschend aus einem Buch":" Eintrittskarten\, Briefumschläge\, Kinderzeichnungen oder Ansichtskarten- die Erinnerungsschnipsel. Scrapbooking ist eine kreative Methode\, mit der diese Erinnerungsschnipsel einen festen Platz finden. Mit Hilfe von Dekorationen aller Art werden sie kreativ gestaltet und mit Erinnerungen ergänzt und festgehalten. So können Erfahrungen noch einmal bewusst eingeordnet werden und sie bekommen ihren Platz im Leben.Für Menschen\, die Methoden biografischer Arbeit kennenlernen möchten und Freude an kreativer Gestaltung haben. Ein Angebot der Fachstelle ÄlterWerden des Ev.-luth. Kirchenkreises Hamburg-West/Südholstein zusammen mit Mittel&Wege.Kosten":" keineAnmeldung":" tina.jachomowski@kirchenkreis-hhsh.de\, Tel. 040 / 558 220 155Leitung":" Tina Jachomowski (Trainerin für Biografiearbeit)
CLASS:PUBLIC
DTSTART:20260423T163000Z
DTEND:20260423T183000Z
DTSTAMP:20260419T184133Z
END:VEVENT

END:VCALENDAR