BEGIN:VCALENDAR
VERSION:2.0
PRODID:nkc_event TYPO3 Extension
METHOD:PUBLISH
BEGIN:VEVENT
UID:752d749c58d1c48a95912fc316069871
LOCATION:Ansgarwiese Haddeby
SUMMARY:Konfirmations Gottesdienst
DESCRIPTION:
CLASS:PUBLIC
DTSTART:20260523T123000Z
DTEND:20260523T133000Z
DTSTAMP:20260422T013835Z
END:VEVENT

END:VCALENDAR