BEGIN:VCALENDAR
VERSION:2.0
PRODID:nkc_event TYPO3 Extension
METHOD:PUBLISH
BEGIN:VEVENT
UID:94e8dc12cb484ced02657d6c04d63e69
LOCATION:Gemeindehaus II
SUMMARY:ANKERPUNKT
DESCRIPTION:
CLASS:PUBLIC
DTSTART:20260423T140000Z
DTEND:20260423T150000Z
DTSTAMP:20260423T101427Z
END:VEVENT

END:VCALENDAR