BEGIN:VCALENDAR
VERSION:2.0
PRODID:nkc_event TYPO3 Extension
METHOD:PUBLISH
BEGIN:VEVENT
UID:54138592abb885836d5198516a859929
LOCATION:Kiel
SUMMARY:Macht- und traumasensible Sprache
DESCRIPTION:Werkstatt-Tag für Gottesdienst und SpiritualitätIn Vorträgen und in Workshops erarbeiten wir Werkstücke in machtsensibler Sprache\, die Menschen\, die von sexualisierter Gewalt betroffen sind\, Zugänge ermöglichen. Für Gottesdienst und andere spirituelle Anlässe in Gemeinden und anderen kirchlichen Arbeitsfeldern.Veranstaltungsort":" KielAnmeldung":" bis zum 20.03.2026 info@christianjensenkolleg.de oder 04671/9112-0
CLASS:PUBLIC
DTSTART:20260327T090000Z
DTEND:20260327T100000Z
DTSTAMP:20260423T102829Z
END:VEVENT

END:VCALENDAR