BEGIN:VCALENDAR
VERSION:2.0
PRODID:nkc_event TYPO3 Extension
METHOD:PUBLISH
BEGIN:VEVENT
UID:f717d8b66ec2ab7c05208bb201c90b27
LOCATION:Ev.-Luth. Kirchengemeinde Rickling
SUMMARY:Klönen am Eichbalken
DESCRIPTION:
CLASS:PUBLIC
DTSTART:20260424T123000Z
DTEND:20260424T143000Z
DTSTAMP:20260423T160749Z
END:VEVENT

END:VCALENDAR