BEGIN:VCALENDAR
VERSION:2.0
PRODID:nkc_event TYPO3 Extension
METHOD:PUBLISH
BEGIN:VEVENT
UID:077d1074b088b4b0d0457e9f59c2206d
LOCATION:Kirche Rickling
SUMMARY:Abendmahlsandacht
DESCRIPTION:zusammen mit der aktuellen Konfirmandengruppe\, herzliche Einladung an alle Gemeindeglieder
CLASS:PUBLIC
DTSTART:20260606T170000Z
DTEND:20260606T180000Z
DTSTAMP:20260423T160850Z
END:VEVENT

END:VCALENDAR