BEGIN:VCALENDAR
VERSION:2.0
PRODID:nkc_event TYPO3 Extension
METHOD:PUBLISH
BEGIN:VEVENT
UID:e4518365b05a4a9a0f11fa46030225c6
LOCATION:Christian Jensen Kolleg gGmbH
SUMMARY:Adventszeit nach Verlusterfahrungen – Was trägt?
DESCRIPTION:Kreativ Wege suchen und findenWenn wir einen Menschen verloren oder andere Verluste erlebt haben\, ist es manchmal schwer\, besondere Zeiten wie die Adventszeit zu gestalten. Welche Rituale dürfen bleiben? Was soll verändert werden? Und was trägt überhaupt angesichts des Verlustes? Gemeinsam wollen wir uns auf eine kreative Reise begeben\, auf der wir neue Kräfte\, neue Ressourcen und neu innere Schätze entdecken können. Wege in die Natur und in kreative Gestaltung sind dafür besondere Angebote. In einer kleinen Gruppe und in geschützten und inspirierenden Räumen ist Zeit für Austausch\, Begegnung\, Halt gebendes und vielleicht einen Lichtblick in dieser neuen Adventszeit.Anmeldung":" bis zum 10.11.2026 unter info@christianjensenkolleg.de oder 04671/9112-0Teilnahmekosten":" folgen
CLASS:PUBLIC
DTSTART:20261127T150000Z
DTEND:20261129T130000Z
DTSTAMP:20260420T192745Z
END:VEVENT

END:VCALENDAR