BEGIN:VCALENDAR
VERSION:2.0
PRODID:nkc_event TYPO3 Extension
METHOD:PUBLISH
BEGIN:VEVENT
UID:3e4f30ec510b3b0f675954b3d55bd01b
LOCATION:Evangelische Akademie der Nordkirche
SUMMARY:Transformation und Theologie? – Nachdenken über Gott in der Klimakrise
DESCRIPTION:Theologie reagiert auf die Gegenwart und sucht nach Antworten auf Lebensfragen. PD Dr. Frederike van Oorschot\, Theologin aus Heidelberg\, stellt die aktuellen Erkenntnisse der evangelischen Theologie zur Klimakrise dar. Welche Beiträge bietet das Nachdenken über Gott und die Welt zu den erforderlichen sozial-ökologischen Transformationen? Welche ethischen Leitlinien für das Handeln folgen daraus?  Diese Veranstaltung findet online statt. In Kooperation mit dem Kirchlichen Dienst in der Arbeitswelt der Nordkirche (KDA) Veranstaltungsart":"Vortrag und Gespräch (Online) Teilnahmebeitrag":"Die Teilnahme ist kostenlos. Studienleitung":"Maike Lauther-Pohl Link zur Veranstaltung":"https":"//akademie-nordkirche.de/veranstaltungen/aktuelles/1607
CLASS:PUBLIC
DTSTART:20260427T170000Z
DTEND:20260427T183000Z
DTSTAMP:20260422T123831Z
END:VEVENT

END:VCALENDAR