BEGIN:VCALENDAR
VERSION:2.0
PRODID:nkc_event TYPO3 Extension
METHOD:PUBLISH
BEGIN:VEVENT
UID:1f82deb14adae51553f2bf55bfdcfa33
LOCATION:Gemeindehaus II
SUMMARY:ABENTEUERLAND
DESCRIPTION:
CLASS:PUBLIC
DTSTART:20261002T133000Z
DTEND:20261002T143000Z
DTSTAMP:20260425T125545Z
END:VEVENT

END:VCALENDAR