BEGIN:VCALENDAR
VERSION:2.0
PRODID:nkc_event TYPO3 Extension
METHOD:PUBLISH
BEGIN:VEVENT
UID:2e3743da1d6a79e713981160efa78699
LOCATION:Petri-Forum
SUMMARY:Forum KirchenKultur
DESCRIPTION:Im ForumKirchenKultur der Nordkirche dreht sich alles darum\, was Kirchen neben dem Gottesdienst sein können! In diesem Jahr laden Sie dazu ein\, gemeinsam konkrete Ideen für Ihre Kulturveranstaltung zu entwickeln und diese vor Ort umzusetzen! Lassen Sie uns Kirche als Kult- und Kulturorte neu entdecken und mit Leben füllen!
CLASS:PUBLIC
DTSTART:20260912T100000Z
DTEND:20260913T123000Z
DTSTAMP:20260424T132335Z
END:VEVENT

END:VCALENDAR