BEGIN:VCALENDAR
VERSION:2.0
PRODID:nkc_event TYPO3 Extension
METHOD:PUBLISH
BEGIN:VEVENT
UID:11270c7cb9d3935a8302b163e56f9612
LOCATION:Hauptkirche St. Jacobi
SUMMARY:Arp-Schnitger-Orgelführung
DESCRIPTION:
CLASS:PUBLIC
DTSTART:20260716T100000Z
DTEND:20260716T110000Z
DTSTAMP:20260420T181006Z
END:VEVENT

END:VCALENDAR