BEGIN:VCALENDAR
VERSION:2.0
PRODID:nkc_event TYPO3 Extension
METHOD:PUBLISH
BEGIN:VEVENT
UID:a003fd937787e6d97ff1e7d87fa265b0
LOCATION:Offene Kirche St. Nikolai in Kiel
SUMMARY:Die Halbe Stunde
DESCRIPTION:Vielfältige Konzertreihe von Musik aller Stile und Epochen.Wöchentlich wechselnde Künstler*innen und wechselndes Programm. Der Eintritt ist frei.
CLASS:PUBLIC
DTSTART:20260506T150000Z
DTEND:20260506T153000Z
DTSTAMP:20260424T122600Z
END:VEVENT

END:VCALENDAR