BEGIN:VCALENDAR
VERSION:2.0
PRODID:nkc_event TYPO3 Extension
METHOD:PUBLISH
BEGIN:VEVENT
UID:8435a78205459a8c031195427eecb162
LOCATION:Kirche St. Johannis zu Hamburg-Eppendorf
SUMMARY:Felix Mendelssohn Bartholdy":" Elias
DESCRIPTION:
CLASS:PUBLIC
DTSTART:20251122T170000Z
DTEND:20251122T180000Z
DTSTAMP:20260424T171414Z
END:VEVENT

END:VCALENDAR