BEGIN:VCALENDAR
VERSION:2.0
PRODID:nkc_event TYPO3 Extension
METHOD:PUBLISH
BEGIN:VEVENT
UID:e45ada9496fdb7ad2d89c96a6354c83c
LOCATION:St. Marien
SUMMARY:Sankt Nikolai Flensburg":" Konfirmation in St. Marien
DESCRIPTION:
CLASS:PUBLIC
DTSTART:20260509T090000Z
DTEND:20260509T100000Z
DTSTAMP:20260422T123417Z
END:VEVENT

END:VCALENDAR