BEGIN:VCALENDAR
VERSION:2.0
PRODID:nkc_event TYPO3 Extension
METHOD:PUBLISH
BEGIN:VEVENT
UID:59a8e98fcc0847377d692fa5aafc57fe
LOCATION:Hl Dreieinigkeitskirche (St. Georgskirche)
SUMMARY:Kirchenöffnung zur Ausstellung This is me! - Queer und religiös?
DESCRIPTION:
CLASS:PUBLIC
DTSTART:20260613T100000Z
DTEND:20260613T120000Z
DTSTAMP:20260420T152102Z
END:VEVENT

END:VCALENDAR