BEGIN:VCALENDAR
VERSION:2.0
PRODID:nkc_event TYPO3 Extension
METHOD:PUBLISH
BEGIN:VEVENT
UID:b85c2cb1a9d6bbb786c071f9060b9f27
LOCATION:Gemeindehaus Havetoft
SUMMARY:FAZIT - Familienzeit mit Gott (Gemeindehaus Havetoft)
DESCRIPTION:
CLASS:PUBLIC
DTSTART:20260510T090000Z
DTEND:20260510T103000Z
DTSTAMP:20260425T125545Z
END:VEVENT

END:VCALENDAR