BEGIN:VCALENDAR
VERSION:2.0
PRODID:nkc_event TYPO3 Extension
METHOD:PUBLISH
BEGIN:VEVENT
UID:4257d82ededac4dae5e0f2fc129e74b9
LOCATION:Evangelische Kirche Hamburg-Bergstedt
SUMMARY:Krippenspiel in Bergstedt
DESCRIPTION:Hier finden sie einen Überblick über die Gottesdienste unserer Gemeinde Oberalster Bergstedt am heiligen Abend und zu Weihnachten":" Weihnachtsgottesdienste
CLASS:PUBLIC
DTSTART:20251224T140000Z
DTEND:20251224T150000Z
DTSTAMP:20260419T133503Z
END:VEVENT

END:VCALENDAR