BEGIN:VCALENDAR
VERSION:2.0
PRODID:nkc_event TYPO3 Extension
METHOD:PUBLISH
BEGIN:VEVENT
UID:f3828fa7e3f9310d666f47fa230ae520
LOCATION:Vicelinkirche
SUMMARY:Orgelkonzert
DESCRIPTION:Gleichzeitig Festkonzert zum Abschluss der Sanierungsarbeiten an der großen Orgel der Vicelinkirche mit anschließendem Empfang.
CLASS:PUBLIC
DTSTART:20260525T160000Z
DTEND:20260525T170000Z
DTSTAMP:20260422T121520Z
END:VEVENT

END:VCALENDAR