BEGIN:VCALENDAR
VERSION:2.0
PRODID:nkc_event TYPO3 Extension
METHOD:PUBLISH
BEGIN:VEVENT
UID:0fb3cb4eb3ef61082fd6192a16a1fc6f
LOCATION:Ev.-Luth. Kirchengemeinde Rickling
SUMMARY:Klönen am Eichbalken
DESCRIPTION:im Mai mit Geburtstagsrunde
CLASS:PUBLIC
DTSTART:20260529T123000Z
DTEND:20260529T143000Z
DTSTAMP:20260423T160743Z
END:VEVENT

END:VCALENDAR