BEGIN:VCALENDAR
VERSION:2.0
PRODID:nkc_event TYPO3 Extension
METHOD:PUBLISH
BEGIN:VEVENT
UID:6eb76afa9c1ec4dc9c3dbceab34054a5
LOCATION:Hauptkirche St. Michaelis
SUMMARY:Musikalische Vesper als Evensong mit Chor
DESCRIPTION:Evensong mit hl. Abendmahl mit der Kantorei St. Michaelis":"Die Kirchengemeinde St. Michaelis feiert ihre wöchentlichen Vespergottesdienste sonntags um 18.00 Uhr nach der Liturgie des englischen Evensongs\, welche besonders viel Raum für chorische Musik lässt. Regelmäßig sind hierfür Gastchöre und Ensembles im Michel zu Gast.Diese Gottesdienstform eignet sich in besonderer Weise\, zur Ruhe zu kommen und den Tag in Gemeinschaft und im Vertrauen auf Gott ausklingen zu lassen.  
CLASS:PUBLIC
DTSTART:20260208T170000Z
DTEND:20260208T180000Z
DTSTAMP:20260423T122846Z
END:VEVENT

END:VCALENDAR