BEGIN:VCALENDAR
VERSION:2.0
PRODID:nkc_event TYPO3 Extension
METHOD:PUBLISH
BEGIN:VEVENT
UID:59c9a106ad6068290c0d1a81f992c30b
LOCATION:Gemeindehaus Quickborn
SUMMARY:KuK - Nordfriesland mit Noldemuseum
DESCRIPTION:Kosten 93 € (Bus\, Führungen\, Eintrittsgelder\, Mittagessen\, o. ä.)Mindestbeteiligung":" 30 Personen Anmeldung ab sofort im Kirchenbüro (Tel.":" 04106-4212)Bezahlung":"Konto":" Ev. - luth. Kirchenkreis Hamburg - West/SüdholsteinIBAN ":" DE 63 5206 0410 7406 4900 34Verwendungszweck":" D3340 -Noldemuseum- Name der/s Teilnehmer/s
CLASS:PUBLIC
DTSTART:20260629T220000Z
DTEND:20260629T230000Z
DTSTAMP:20260424T195706Z
END:VEVENT

END:VCALENDAR