BEGIN:VCALENDAR
VERSION:2.0
PRODID:nkc_event TYPO3 Extension
METHOD:PUBLISH
BEGIN:VEVENT
UID:a532ec86d5fb86ad692af5304ab64c0a
LOCATION:St. Marien
SUMMARY:Chormusik am Vormittag
DESCRIPTION:
CLASS:PUBLIC
DTSTART:20260516T093000Z
DTEND:20260516T103000Z
DTSTAMP:20260423T074945Z
END:VEVENT

END:VCALENDAR