BEGIN:VCALENDAR
VERSION:2.0
PRODID:nkc_event TYPO3 Extension
METHOD:PUBLISH
BEGIN:VEVENT
UID:df248f0be08b2ad402c97d2de78cd98f
LOCATION:St. Petri-Dom Schleswig
SUMMARY:Chor-Orgel-Lounge
DESCRIPTION:Ein leerer Dom. Für Dich\, für mich\, für uns. Und ein Konzert\,das uns mitnimmt\, diesen Kirchenraum neu zu entdecken.Bringen Sie Ihre Isomatte oder eine Decke mit und machenSie es sich gemütlich. Lauschen Sie der Chor- und Orgelmusik. Tauchen Sie ein in die Faszination „Klangraum 360°“.Es musizieren der St. Petri-Chor und Mahela T. Reichstattan der Domorgel.Eintritt 10 Euro (ermäßigt 8 Euro) | Kinder\, Schüler und Studierende frei.Einlass ab 20 Uhr.
CLASS:PUBLIC
DTSTART:20260610T190000Z
DTEND:20260610T200000Z
DTSTAMP:20260424T123045Z
END:VEVENT

END:VCALENDAR