BEGIN:VCALENDAR
VERSION:2.0
PRODID:nkc_event TYPO3 Extension
METHOD:PUBLISH
BEGIN:VEVENT
UID:fcb350caa6ed25060348de048f9cd455
LOCATION:St.-Laurentius-Kirche Schönberg
SUMMARY:40. Schönberger Musiksommer - Eva Klesse":" „Stimmen“
DESCRIPTION:In einem aufwändigen und anspruchsvollen Programm geht die international bekannte und gefragte Jazzmusikerin und Professorin Eva Klesse mit ihrer international besetzten Band der Frage nach\, wessen Stimmen gehört werden\, auf wessen Stimmen wir vielleicht mehr hören sollten – ja\, und wer hat überhaupt eine Stimme? Verschiedene Momente der Weltgeschichte begegnen uns wie das Heute\, manches ist offensichtlich\, manches nicht sogleich für eine jede und einen jeden und erst noch zu entdecken. Dazu laden wir ein! „Stimmen“ ist ein Programm für unsere Zeit\, geschöpft aus vielen Quellen\, musikalisch packend – und Mut machend\, weil Hoffnung begründet ist.
CLASS:PUBLIC
DTSTART:20260714T180000Z
DTEND:20260714T190000Z
DTSTAMP:20260419T145055Z
END:VEVENT

END:VCALENDAR