BEGIN:VCALENDAR
VERSION:2.0
PRODID:nkc_event TYPO3 Extension
METHOD:PUBLISH
BEGIN:VEVENT
UID:ca5ce3d91ffa0f4f6bdbf9c70ddd9156
LOCATION:Kreuzkirche
SUMMARY:Gottesdienst für Groß und Klein
DESCRIPTION:
CLASS:PUBLIC
DTSTART:20260406T090000Z
DTEND:20260406T100000Z
DTSTAMP:20260420T104027Z
END:VEVENT

END:VCALENDAR