BEGIN:VCALENDAR
VERSION:2.0
PRODID:nkc_event TYPO3 Extension
METHOD:PUBLISH
BEGIN:VEVENT
UID:4b23f4258cbf2d813421b90e525ad405
LOCATION:St. Michaelis Schuby
SUMMARY:Gottesdienst
DESCRIPTION:
CLASS:PUBLIC
DTSTART:20260208T083000Z
DTEND:20260208T093000Z
DTSTAMP:20260423T085322Z
END:VEVENT

END:VCALENDAR