BEGIN:VCALENDAR
VERSION:2.0
PRODID:nkc_event TYPO3 Extension
METHOD:PUBLISH
BEGIN:VEVENT
UID:976648da06160e1cb0d7885a7f756303
LOCATION:Kirche der Stille
SUMMARY:Abendgebet nach Taizé
DESCRIPTION:
CLASS:PUBLIC
DTSTART:20260524T170000Z
DTEND:20260524T180000Z
DTSTAMP:20260421T193533Z
END:VEVENT

END:VCALENDAR