BEGIN:VCALENDAR
VERSION:2.0
PRODID:nkc_event TYPO3 Extension
METHOD:PUBLISH
BEGIN:VEVENT
UID:1e88ac4a2d61dedd213f6487effaa5b9
LOCATION:St. Laurentius Munkbrarup
SUMMARY:Gottesdienst u. Gemeindeversammlung + Kirchenkaffee mit Pastorin Sabrina Biehl
DESCRIPTION:Im Anschluss an den Gottesdienst laden wir Sie herzlich zum Kirchenkaffee ein.
CLASS:PUBLIC
DTSTART:20260816T073000Z
DTEND:20260816T083000Z
DTSTAMP:20260422T135614Z
END:VEVENT

END:VCALENDAR