BEGIN:VCALENDAR
VERSION:2.0
PRODID:nkc_event TYPO3 Extension
METHOD:PUBLISH
BEGIN:VEVENT
UID:78e9e3fb1b15f12fc926e549a4573e7a
LOCATION:St. Katharinen-Hospiz
SUMMARY:Sankt Nikolai Flensburg":" Sing-Gottesdienst im Garten des St. Katharinen-Hospizes zum Sonntag DQUOTEKantateDQUOTE
DESCRIPTION:
CLASS:PUBLIC
DTSTART:20260503T080000Z
DTEND:20260503T090000Z
DTSTAMP:20260422T123409Z
END:VEVENT

END:VCALENDAR