BEGIN:VCALENDAR
VERSION:2.0
PRODID:nkc_event TYPO3 Extension
METHOD:PUBLISH
BEGIN:VEVENT
UID:6cf78564e860f062891948ea99d34d7e
LOCATION:St.-Laurentius-Kirche Schönberg
SUMMARY:40. Schönberger Musiksommer - „Cantate! Suonate virtuosamente!“
DESCRIPTION:Über 500 junge Musikerinnen und Musiker aus mehr als 50 Nationen studieren an der Musikhochschule Lübeck. Bühnenerfahrung zu sammeln gehört zum Ausbildungsziel\, dazu bietet die Hochschule u.a. in ihrer Reihe „Wir in…“ entsprechende Möglichkeiten. Gemeinsame Konzertprojekte mit Kammerchor und Kammerorchester zählen zu den Höhepunkten\, und mit einem Programm\, bestehend aus einer Kantate von Dieterich Buxtehude\, der doppelchörigen Motette „Singet dem Herrn ein neues Lied“ von Johann Sebastian Bach auf der Seite der älteren Werke\, mit Mendelssohns Motette „Warum toben die Heiden“ sowie seiner Streichersinfonie als einem romantischen Akzent sowie zeitgenössischer Chormusik erleben wir begeistertes und begeisterndes Musizieren der Besten des musikalischen Nachwuchses. Mittlerweile ist das Konzert der Musikhochschule Lübeck im Schönberger Musiksommer zu einer Tradition geworden\, auf die sich alle Beteiligten alljährlich sehr freuen. Ein besonderer Dank gilt den beiden Professoribus\, die mit ihrer Erfahrung die jungen Virtuosi zur Höchstleistung anstacheln!
CLASS:PUBLIC
DTSTART:20260707T180000Z
DTEND:20260707T190000Z
DTSTAMP:20260419T144340Z
END:VEVENT

END:VCALENDAR