BEGIN:VCALENDAR
VERSION:2.0
PRODID:nkc_event TYPO3 Extension
METHOD:PUBLISH
BEGIN:VEVENT
UID:f8479f5577fc94aa4b31330b1bf0126d
LOCATION:Marienkirche Esgrus
SUMMARY:Gottesdienst in Esgrus
DESCRIPTION:
CLASS:PUBLIC
DTSTART:20260426T080000Z
DTEND:20260426T090000Z
DTSTAMP:20260424T104732Z
END:VEVENT

END:VCALENDAR