BEGIN:VCALENDAR
VERSION:2.0
PRODID:nkc_event TYPO3 Extension
METHOD:PUBLISH
BEGIN:VEVENT
UID:0f4cc283bf91c89031177a3ba869c55c
LOCATION:Familien-Bildungsstätte Bad Oldesloe
SUMMARY:Sixtyniner-Chor
DESCRIPTION:
CLASS:PUBLIC
DTSTART:20260910T150000Z
DTEND:20260910T173000Z
DTSTAMP:20260422T104758Z
END:VEVENT

END:VCALENDAR