BEGIN:VCALENDAR
VERSION:2.0
PRODID:nkc_event TYPO3 Extension
METHOD:PUBLISH
BEGIN:VEVENT
UID:6bee2fb5347bb7392d0d4db91a560dc7
LOCATION:Gemeindehaus II
SUMMARY:ABENTEUERLAND
DESCRIPTION:
CLASS:PUBLIC
DTSTART:20260626T133000Z
DTEND:20260626T143000Z
DTSTAMP:20260425T112138Z
END:VEVENT

END:VCALENDAR