BEGIN:VCALENDAR
VERSION:2.0
PRODID:nkc_event TYPO3 Extension
METHOD:PUBLISH
BEGIN:VEVENT
UID:a4938451cf9e9d9ce55759fe09e55e33
LOCATION:Gemeindehaus I
SUMMARY:Kinderchor ab 3. Schuljahr
DESCRIPTION:
CLASS:PUBLIC
DTSTART:20260514T143000Z
DTEND:20260514T153000Z
DTSTAMP:20260420T080723Z
END:VEVENT

END:VCALENDAR