BEGIN:VCALENDAR
VERSION:2.0
PRODID:nkc_event TYPO3 Extension
METHOD:PUBLISH
BEGIN:VEVENT
UID:f20dc4af5fcf25af47b1b48853df48dd
LOCATION:St. Anna
SUMMARY:Hl. Messe
DESCRIPTION:
CLASS:PUBLIC
DTSTART:20260426T160000Z
DTEND:20260426T170000Z
DTSTAMP:20260423T141819Z
END:VEVENT

END:VCALENDAR